BEGIN:VCALENDAR
VERSION:2.0
PRODID:-//Patrick Ledwell Comedy - ECPv6.15.14//NONSGML v1.0//EN
CALSCALE:GREGORIAN
METHOD:PUBLISH
X-WR-CALNAME:Patrick Ledwell Comedy
X-ORIGINAL-URL:https://www.patrickledwell.net
X-WR-CALDESC:Events for Patrick Ledwell Comedy
REFRESH-INTERVAL;VALUE=DURATION:PT1H
X-Robots-Tag:noindex
X-PUBLISHED-TTL:PT1H
BEGIN:VTIMEZONE
TZID:UTC
BEGIN:STANDARD
TZOFFSETFROM:+0000
TZOFFSETTO:+0000
TZNAME:UTC
DTSTART:20160101T000000
END:STANDARD
END:VTIMEZONE
BEGIN:VEVENT
DTSTART;TZID=UTC:20170608T203000
DTEND;TZID=UTC:20170608T213000
DTSTAMP:20260422T235426
CREATED:20170606T152907Z
LAST-MODIFIED:20170606T152907Z
UID:10000074-1496953800-1496957400@www.patrickledwell.net
SUMMARY:Funeral Services Association of Canada
DESCRIPTION:Keynote performance for annual national meeting
URL:https://www.patrickledwell.net/event/funeral-services-association-of-canada/
LOCATION:P.E.I.
CATEGORIES:Client event
ATTACH;FMTTYPE=image/png:https://www.patrickledwell.net/wp-content/uploads/2017/06/FSAC-logo.png
END:VEVENT
END:VCALENDAR