BEGIN:VCALENDAR
VERSION:2.0
PRODID:-//Patrick Ledwell Comedy - ECPv6.15.14//NONSGML v1.0//EN
CALSCALE:GREGORIAN
METHOD:PUBLISH
X-WR-CALNAME:Patrick Ledwell Comedy
X-ORIGINAL-URL:https://www.patrickledwell.net
X-WR-CALDESC:Events for Patrick Ledwell Comedy
REFRESH-INTERVAL;VALUE=DURATION:PT1H
X-Robots-Tag:noindex
X-PUBLISHED-TTL:PT1H
BEGIN:VTIMEZONE
TZID:UTC
BEGIN:STANDARD
TZOFFSETFROM:+0000
TZOFFSETTO:+0000
TZNAME:UTC
DTSTART:20170101T000000
END:STANDARD
END:VTIMEZONE
BEGIN:VEVENT
DTSTART;TZID=UTC:20180622T193000
DTEND;TZID=UTC:20180622T213000
DTSTAMP:20260421T194212
CREATED:20180531T150931Z
LAST-MODIFIED:20180531T151240Z
UID:10000044-1529695800-1529703000@www.patrickledwell.net
SUMMARY:Small Halls 2018\, King George Hall
DESCRIPTION:Celebrate the 10th Anniversary of the PEI Mutual Festival of Small Halls with this show. Patrick Ledwell and Mark Haines\, popular Island entertainers\, head to Prince County to share their quirky take on Island life through music and stories.
URL:https://www.patrickledwell.net/event/small-halls-2018-king-george-hall/
LOCATION:King George Hall\, 6050 Route 12\, Port Hill\, Prince Edward Island\, Canada
ATTACH;FMTTYPE=image/jpeg:https://www.patrickledwell.net/wp-content/uploads/2017/06/2017-FOSH-Sticker.jpg
GEO:46.5765236;-63.8804778
X-APPLE-STRUCTURED-LOCATION;VALUE=URI;X-ADDRESS=King George Hall 6050 Route 12 Port Hill Prince Edward Island Canada;X-APPLE-RADIUS=500;X-TITLE=6050 Route 12:geo:-63.8804778,46.5765236
END:VEVENT
END:VCALENDAR