BEGIN:VCALENDAR
VERSION:2.0
PRODID:-//Patrick Ledwell Comedy - ECPv6.15.14//NONSGML v1.0//EN
CALSCALE:GREGORIAN
METHOD:PUBLISH
X-WR-CALNAME:Patrick Ledwell Comedy
X-ORIGINAL-URL:https://www.patrickledwell.net
X-WR-CALDESC:Events for Patrick Ledwell Comedy
REFRESH-INTERVAL;VALUE=DURATION:PT1H
X-Robots-Tag:noindex
X-PUBLISHED-TTL:PT1H
BEGIN:VTIMEZONE
TZID:UTC
BEGIN:STANDARD
TZOFFSETFROM:+0000
TZOFFSETTO:+0000
TZNAME:UTC
DTSTART:20170101T000000
END:STANDARD
END:VTIMEZONE
BEGIN:VEVENT
DTSTART;TZID=UTC:20180812T200000
DTEND;TZID=UTC:20180812T220000
DTSTAMP:20260421T161347
CREATED:20180810T185048Z
LAST-MODIFIED:20180810T185048Z
UID:10000133-1534104000-1534111200@www.patrickledwell.net
SUMMARY:Frank Ledwell Storytelling Festival 2018- with Mark Haines
DESCRIPTION:A comedy and storytelling festival celebrating the legacy of my father\, Frank Ledwell\, in his hometown at St. Peter’s Bay. C’mon out for a wonderful night of stories and songs\, with me and my performing partner\, Mark Haines. Enjoy all that the Festival has to offer.
URL:https://www.patrickledwell.net/event/frank-ledwell-storytelling-festival-2018-with-mark-haines/
LOCATION:St. Peter’s Courthouse Theatre\, 5697 St. Peter’s Rd (Route 2)\, St. Peter's\, PEI\, C0A 2A0\, Canada
ATTACH;FMTTYPE=image/png:https://www.patrickledwell.net/wp-content/uploads/2017/07/st_peters_courthouse_theatre.png
GEO:46.4143407;-62.5845759
X-APPLE-STRUCTURED-LOCATION;VALUE=URI;X-ADDRESS=St. Peter’s Courthouse Theatre 5697 St. Peter’s Rd (Route 2) St. Peter's PEI C0A 2A0 Canada;X-APPLE-RADIUS=500;X-TITLE=5697 St. Peter’s Rd (Route 2):geo:-62.5845759,46.4143407
END:VEVENT
END:VCALENDAR