BEGIN:VCALENDAR
VERSION:2.0
PRODID:-//Patrick Ledwell Comedy - ECPv6.15.14//NONSGML v1.0//EN
CALSCALE:GREGORIAN
METHOD:PUBLISH
X-WR-CALNAME:Patrick Ledwell Comedy
X-ORIGINAL-URL:https://www.patrickledwell.net
X-WR-CALDESC:Events for Patrick Ledwell Comedy
REFRESH-INTERVAL;VALUE=DURATION:PT1H
X-Robots-Tag:noindex
X-PUBLISHED-TTL:PT1H
BEGIN:VTIMEZONE
TZID:UTC
BEGIN:STANDARD
TZOFFSETFROM:+0000
TZOFFSETTO:+0000
TZNAME:UTC
DTSTART:20180101T000000
END:STANDARD
END:VTIMEZONE
BEGIN:VEVENT
DTSTART;TZID=UTC:20190511T200000
DTEND;TZID=UTC:20190511T220000
DTSTAMP:20260420T234315
CREATED:20170407T085319Z
LAST-MODIFIED:20190429T081704Z
UID:10000092-1557604800-1557612000@www.patrickledwell.net
SUMMARY:'Working on It': Fundraiser for CMHA 2019
DESCRIPTION:On Saturday\, May 11\, at Harmony House in Hunter River\, Patrick Ledwell and Mark Haines will be partnering with the Canadian Mental Health Association PEI for “Working on It\,” a night of comedy about life\, your work\, and mental wellness. \nDuring the first half of the night\, Patrick Ledwell’s presentation will travel through some humourous and practical approaches to staying well in your work. For the second half\, Ledwell will be joined by his performing partner\, Mark Haines\, and they will be debuting new material\, toward this year’s edition of The Island Summer Review. \nThe evening starts at 8:00 pm and tickets are $20 (plus tax and fees). Please reserve tickets in advance via Harmony House’s TicketPro box outlet\, by calling 1-888-311-9090 or booking on-line at http://www.harmonyhousetheatre.com \nThe evening is part of CMHA’s National Mental Health Week taking place May 6-12. Both the performance and Harmony House venue are 100% donated as a fundraiser in support of CMHA PEI. All proceeds from the night will go directly toward mental health programs and services for Islanders. \nThe goal of the presentation is to have some shared laughter\, explore a couple of perspectives on work and health\, and talk about helpful practices. “The performance will be upbeat and humourous\,” says Ledwell. “Laughter is good at opening windows\, and can be a positive force to create conversation in the room.” \nHarmony House’s downstairs licensed restaurant and pub will be open in advance\, with a full chef-prepared menu by Chef Norman Zeledon. To reserve a table for dinner\, call 902-964-2255.
URL:https://www.patrickledwell.net/event/working-on-it-fundraiser-for-cmha-2019/
LOCATION:Harmony House\, 19814 Route 2\, Hunter River\, Prince Edward Island\, C0A 1N0\, Canada
ATTACH;FMTTYPE=image/png:https://www.patrickledwell.net/wp-content/uploads/2019/04/hhouse_cmha_benefit_2019.png
GEO:46.3560694;-63.3514872
X-APPLE-STRUCTURED-LOCATION;VALUE=URI;X-ADDRESS=Harmony House 19814 Route 2 Hunter River Prince Edward Island C0A 1N0 Canada;X-APPLE-RADIUS=500;X-TITLE=19814 Route 2:geo:-63.3514872,46.3560694
END:VEVENT
END:VCALENDAR